﻿BEGIN:VCALENDAR
VERSION:2.0
PRODID:spatie/icalendar-generator
DESCRIPTION:Évènements de Commune de Lexy
X-WR-CALDESC:Évènements de Commune de Lexy
REFRESH-INTERVAL;VALUE=DURATION:PT1440M
X-PUBLISHED-TTL:PT1440M
BEGIN:VTIMEZONE
TZID:Etc/GMT-1
BEGIN:STANDARD
DTSTART:20170622T174500Z
TZOFFSETFROM:+0100
TZOFFSETTO:+0100
END:STANDARD
END:VTIMEZONE
BEGIN:VTIMEZONE
TZID:UTC
BEGIN:STANDARD
DTSTART:20250724T111531Z
TZOFFSETFROM:+0000
TZOFFSETTO:+0000
END:STANDARD
END:VTIMEZONE
BEGIN:VEVENT
UID:122-99
DTSTAMP:20260420T111531Z
SUMMARY:56 ème anniversaire de la fin des combats en A.F.N. (Afrique Fran
 çaise du Nord)
LOCATION:Mairie 2b route de longwy  Lexy  54720
ORGANIZER;CN=Lexy:MAILTO:sitelexy@gmail.com
DTSTART;TZID=Etc/GMT-1:20180319T174500
DTEND;TZID=Etc/GMT-1:20180319T184500
X-ALT-DESC;FMTTYPE=TEXT/HTML:PROGRAMME DES CEREMONIES du LUNDI 19 MARS 2018
  17 H 45 : Rassemblement devant l’Hôtel de Ville du Conseil Municipal\,
  des Associations Patriotiques 18 H 00 : Remise de décorations. Allocuti
 ons et dépôt de gerbes au Monument aux Morts avec la participation de la
  Chorale « Lexy-Fantaisy » 18 H 30 : Vin d’Honneur offert par la…
CATEGORIES:Commémorations
URL;VALUE=URI:http://www.lexy.fr/mc-events/56-eme-anniversaire-de-la-fin-de
 s-combats-en-a-f-n-afrique-francaise-du-nord/
METHOD:PUBLISH
END:VEVENT
END:VCALENDAR