﻿BEGIN:VCALENDAR
VERSION:2.0
PRODID:spatie/icalendar-generator
DESCRIPTION:Évènements de Commune de Lexy
X-WR-CALDESC:Évènements de Commune de Lexy
REFRESH-INTERVAL;VALUE=DURATION:PT1440M
X-PUBLISHED-TTL:PT1440M
BEGIN:VTIMEZONE
TZID:Etc/GMT-1
BEGIN:STANDARD
DTSTART:20150610T143000Z
TZOFFSETFROM:+0100
TZOFFSETTO:+0100
END:STANDARD
END:VTIMEZONE
BEGIN:VTIMEZONE
TZID:UTC
BEGIN:STANDARD
DTSTART:20250725T225136Z
TZOFFSETFROM:+0000
TZOFFSETTO:+0000
END:STANDARD
END:VTIMEZONE
BEGIN:VEVENT
UID:36-19
DTSTAMP:20260421T225136Z
SUMMARY:Bal costumé
LOCATION:Foyer Municipal 6 rue du Maréchal Foch  Lexy  54720
ORGANIZER;CN=Lexy:MAILTO:sitelexy@gmail.com
DTSTART;TZID=Etc/GMT-1:20160306T143000
DTEND;TZID=Etc/GMT-1:20160306T153000
X-ALT-DESC;FMTTYPE=TEXT/HTML:Le comité des fêtes organise son traditionne
 l bal costumé des enfants avec de nombreuses animations. Ambiance assuré
 e par DJ Cocktail Tout au long de l'après midi\, des jeux seront organis
 és et les gagnants seront récompensés. Les plus beaux costumes ou les p
 lus originaux seront également récompensés. Des beignets confectionnés
  par le comité des fêtes\, des…
CATEGORIES:Associations
URL;VALUE=URI:http://www.lexy.fr/mc-events/bal-costume/
METHOD:PUBLISH
END:VEVENT
END:VCALENDAR