﻿BEGIN:VCALENDAR
VERSION:2.0
PRODID:spatie/icalendar-generator
DESCRIPTION:Évènements de Commune de Lexy
X-WR-CALDESC:Évènements de Commune de Lexy
REFRESH-INTERVAL;VALUE=DURATION:PT1440M
X-PUBLISHED-TTL:PT1440M
BEGIN:VTIMEZONE
TZID:Etc/GMT-1
BEGIN:STANDARD
DTSTART:20170221T100000Z
TZOFFSETFROM:+0100
TZOFFSETTO:+0100
END:STANDARD
END:VTIMEZONE
BEGIN:VTIMEZONE
TZID:UTC
BEGIN:STANDARD
DTSTART:20250725T215213Z
TZOFFSETFROM:+0000
TZOFFSETTO:+0000
END:STANDARD
END:VTIMEZONE
BEGIN:VEVENT
UID:105-86
DTSTAMP:20260421T215213Z
SUMMARY:Bourse aux jouets
LOCATION:Foyer Municipal 6 rue du Maréchal Foch  Lexy  54720
ORGANIZER;CN=Lexy:MAILTO:sitelexy@gmail.com
DTSTART;TZID=Etc/GMT-1:20171118T100000
DTEND;TZID=Etc/GMT-1:20171118T170000
X-ALT-DESC;FMTTYPE=TEXT/HTML:L’association Bouge avec ton parc organise s
 a seconde bourse aux jouets\, vêtements\, puériculture le samedi 18 nove
 mbre 2017. Elle se déroulera au foyer municipal de Lexy de 10h à 17h (en
 trée gratuite). Accueil des exposants dès 9h\, emplacement à 5€ (tabl
 e fournie)\, informations et réservations (obligatoire) via FB ou par mai
 l brocante@bougeavectonparc.fr Buvette et petite…
CATEGORIES:Associations
URL;VALUE=URI:http://www.lexy.fr/mc-events/bourse-aux-jouets-2/
METHOD:PUBLISH
END:VEVENT
END:VCALENDAR