﻿BEGIN:VCALENDAR
VERSION:2.0
PRODID:spatie/icalendar-generator
DESCRIPTION:Évènements de Commune de Lexy
X-WR-CALDESC:Évènements de Commune de Lexy
REFRESH-INTERVAL;VALUE=DURATION:PT1440M
X-PUBLISHED-TTL:PT1440M
BEGIN:VTIMEZONE
TZID:Etc/GMT-1
BEGIN:STANDARD
DTSTART:20160324T200000Z
TZOFFSETFROM:+0100
TZOFFSETTO:+0100
END:STANDARD
END:VTIMEZONE
BEGIN:VTIMEZONE
TZID:UTC
BEGIN:STANDARD
DTSTART:20250728T003708Z
TZOFFSETFROM:+0000
TZOFFSETTO:+0000
END:STANDARD
END:VTIMEZONE
BEGIN:VEVENT
UID:71-56
DTSTAMP:20260424T003708Z
SUMMARY:Conseil Municipal
LOCATION:Mairie 2b route de longwy  Lexy  54720
ORGANIZER;CN=Lexy:MAILTO:sitelexy@gmail.com
DTSTART;TZID=Etc/GMT-1:20161219T200000
DTEND;TZID=Etc/GMT-1:20161219T210000
X-ALT-DESC;FMTTYPE=TEXT/HTML:Le prochain  Conseil Municipal aura lieu le L
 UNDI 19 DECEMBRE 2016 à 20 Heures 00 Ordre du Jour : * Prix du m3 d'eau 2
 017 * Tarifs repas accueil périscolaire * Frais d'occupation du Foyer Mun
 icipal * Frais d'occupation du Foyer des Personnes Agées * Frais d'occupa
 tion de la salle d'exposition du Centre Socio-Culturel *…
CATEGORIES:Vie municipale
URL;VALUE=URI:http://www.lexy.fr/mc-events/conseil-municipal-11/
METHOD:PUBLISH
END:VEVENT
END:VCALENDAR