﻿BEGIN:VCALENDAR
VERSION:2.0
PRODID:spatie/icalendar-generator
DESCRIPTION:Évènements de Commune de Lexy
X-WR-CALDESC:Évènements de Commune de Lexy
REFRESH-INTERVAL;VALUE=DURATION:PT1440M
X-PUBLISHED-TTL:PT1440M
BEGIN:VTIMEZONE
TZID:Etc/GMT-1
BEGIN:STANDARD
DTSTART:20171231T200000Z
TZOFFSETFROM:+0100
TZOFFSETTO:+0100
END:STANDARD
END:VTIMEZONE
BEGIN:VTIMEZONE
TZID:UTC
BEGIN:STANDARD
DTSTART:20250726T121748Z
TZOFFSETFROM:+0000
TZOFFSETTO:+0000
END:STANDARD
END:VTIMEZONE
BEGIN:VEVENT
UID:131-108
DTSTAMP:20260422T121748Z
SUMMARY:Conseil Municipal
LOCATION:Mairie 2b route de longwy  Lexy  54720
ORGANIZER;CN=Lexy:MAILTO:sitelexy@gmail.com
DTSTART;TZID=Etc/GMT-1:20180927T200000
DTEND;TZID=Etc/GMT-1:20180927T210000
X-ALT-DESC;FMTTYPE=TEXT/HTML:Le prochain Conseil Municipal aura lieu à l
 ’hôtel de Ville le :    Jeudi 27 Septembre 2018 à 20 Heures Ordre 
 du Jour : Emprunt – Budget Commune Emprunt – Budget des Eaux Décisio
 n modificative – Commune Modification du tableau des effectifs Recruteme
 nt d’un vacataire Adhésion au contrat d’assurances du Centre de Gesti
 on – Risques statutaires Convention pour…
CATEGORIES:Vie municipale
URL;VALUE=URI:http://www.lexy.fr/mc-events/conseil-municipal-24/
METHOD:PUBLISH
END:VEVENT
END:VCALENDAR