﻿BEGIN:VCALENDAR
VERSION:2.0
PRODID:spatie/icalendar-generator
DESCRIPTION:Évènements de Commune de Lexy
X-WR-CALDESC:Évènements de Commune de Lexy
REFRESH-INTERVAL;VALUE=DURATION:PT1440M
X-PUBLISHED-TTL:PT1440M
BEGIN:VTIMEZONE
TZID:Etc/GMT-1
BEGIN:STANDARD
DTSTART:20190323T203000Z
TZOFFSETFROM:+0100
TZOFFSETTO:+0100
END:STANDARD
END:VTIMEZONE
BEGIN:VTIMEZONE
TZID:UTC
BEGIN:STANDARD
DTSTART:20250724T133904Z
TZOFFSETFROM:+0000
TZOFFSETTO:+0000
END:STANDARD
END:VTIMEZONE
BEGIN:VEVENT
UID:159-136
DTSTAMP:20260420T133904Z
SUMMARY:Conseil Municipal
LOCATION:Mairie 2b route de longwy  Lexy  54720
ORGANIZER;CN=Lexy:MAILTO:sitelexy@gmail.com
DTSTART;TZID=Etc/GMT-1:20191218T203000
DTEND;TZID=Etc/GMT-1:20191218T213000
X-ALT-DESC;FMTTYPE=TEXT/HTML:Le prochain Conseil Municipal se tiendra le me
 rcredi 18 décembre à 20h30 à l'Hôtel de Ville de la commune Ordre du J
 our : ➢ Tarifs repas accueil périscolaire ➢ Frais d'occupation du Foy
 er Municipal ➢ Frais d'occupation du Foyer des Personnes Agées ➢ Frai
 s d'occupation de la salle d'exposition du Centre Socio-Culturel ➢ Conce
 ssions de…
CATEGORIES:Vie municipale
URL;VALUE=URI:http://www.lexy.fr/mc-events/conseil-municipal-32/
METHOD:PUBLISH
END:VEVENT
END:VCALENDAR