﻿BEGIN:VCALENDAR
VERSION:2.0
PRODID:spatie/icalendar-generator
DESCRIPTION:Évènements de Commune de Lexy
X-WR-CALDESC:Évènements de Commune de Lexy
REFRESH-INTERVAL;VALUE=DURATION:PT1440M
X-PUBLISHED-TTL:PT1440M
BEGIN:VTIMEZONE
TZID:Etc/GMT-1
BEGIN:STANDARD
DTSTART:20211007T200000Z
TZOFFSETFROM:+0100
TZOFFSETTO:+0100
END:STANDARD
END:VTIMEZONE
BEGIN:VTIMEZONE
TZID:UTC
BEGIN:STANDARD
DTSTART:20250727T010856Z
TZOFFSETFROM:+0000
TZOFFSETTO:+0000
END:STANDARD
END:VTIMEZONE
BEGIN:VEVENT
UID:207-182
DTSTAMP:20260423T010856Z
SUMMARY:Conseil Municipal
LOCATION:Mairie 2b route de longwy  Lexy  54720
ORGANIZER;CN=Lexy:MAILTO:sitelexy@gmail.com
DTSTART;TZID=Etc/GMT-1:20220704T200000
DTEND;TZID=Etc/GMT-1:20220704T210000
X-ALT-DESC;FMTTYPE=TEXT/HTML:Les membres du Conseil Municipal sont convoqu
 és à l’Hôtel de Ville pour la réunion du Conseil Municipal le LUNDI 
 4 JUILLET 2022 à 20 Heures Ordre du Jour : Arrêt du PLU (Plan Local d
 ’Urbanisme) Modernisation du PLU Demande de subvention Renouvellement du
  PEDT (Projet Educatif de Territoire) Bail de chasse Subvention complémen
 taire Questions diverses
CATEGORIES:Vie municipale
URL;VALUE=URI:http://www.lexy.fr/mc-events/conseil-municipal-53/
METHOD:PUBLISH
END:VEVENT
END:VCALENDAR