﻿BEGIN:VCALENDAR
VERSION:2.0
PRODID:spatie/icalendar-generator
DESCRIPTION:Évènements de Commune de Lexy
X-WR-CALDESC:Évènements de Commune de Lexy
REFRESH-INTERVAL;VALUE=DURATION:PT1440M
X-PUBLISHED-TTL:PT1440M
BEGIN:VTIMEZONE
TZID:Etc/GMT-1
BEGIN:STANDARD
DTSTART:20141127T200000Z
TZOFFSETFROM:+0100
TZOFFSETTO:+0100
END:STANDARD
END:VTIMEZONE
BEGIN:VTIMEZONE
TZID:UTC
BEGIN:STANDARD
DTSTART:20250726T054041Z
TZOFFSETFROM:+0000
TZOFFSETTO:+0000
END:STANDARD
END:VTIMEZONE
BEGIN:VEVENT
UID:6-4
DTSTAMP:20260422T054041Z
SUMMARY:Conseil Municipal
LOCATION:Mairie 2b route de longwy  Lexy  54720
ORGANIZER;CN=Lexy:MAILTO:sitelexy@gmail.com
DTSTART;TZID=Etc/GMT-1:20150824T200000
DTEND;TZID=Etc/GMT-1:20150824T210000
X-ALT-DESC;FMTTYPE=TEXT/HTML:Le prochain Conseil Municipal se tiendra à l'
 Hôtel de Ville le LUNDI 24 AOUT 2015 à 20 Heures. Ordre du Jour : - Acha
 t d’un garage rue Jeanne d’Arc - Prêt FCTVA – Délibération d’au
 torisation d’emprunt - Régie Bibliothèque Municipale - Demande de subv
 ention FNADT « requalification du quartier des Minières - Subvention coo
 pérative scolaire…
CATEGORIES:Vie municipale
URL;VALUE=URI:http://www.lexy.fr/mc-events/conseil-municipal/
METHOD:PUBLISH
END:VEVENT
END:VCALENDAR