﻿BEGIN:VCALENDAR
VERSION:2.0
PRODID:spatie/icalendar-generator
DESCRIPTION:Évènements de Commune de Lexy
X-WR-CALDESC:Évènements de Commune de Lexy
REFRESH-INTERVAL;VALUE=DURATION:PT1440M
X-PUBLISHED-TTL:PT1440M
BEGIN:VTIMEZONE
TZID:Etc/GMT-1
BEGIN:STANDARD
DTSTART:20230225T133000Z
TZOFFSETFROM:+0100
TZOFFSETTO:+0100
END:STANDARD
END:VTIMEZONE
BEGIN:VTIMEZONE
TZID:UTC
BEGIN:STANDARD
DTSTART:20250725T183337Z
TZOFFSETFROM:+0000
TZOFFSETTO:+0000
END:STANDARD
END:VTIMEZONE
BEGIN:VEVENT
UID:259-229
DTSTAMP:20260421T183337Z
SUMMARY:Évènement Sans Titre
LOCATION:
ORGANIZER;CN=Lexy:MAILTO:sitelexy@gmail.com
DTSTART;TZID=Etc/GMT-1:20231122T133000
DTEND;TZID=Etc/GMT-1:20231122T143000
X-ALT-DESC;FMTTYPE=TEXT/HTML:
CATEGORIES:Associations
URL;VALUE=URI:http://www.lexy.fr/mc-events/evenement-sans-titre-2/
METHOD:PUBLISH
END:VEVENT
END:VCALENDAR