﻿BEGIN:VCALENDAR
VERSION:2.0
PRODID:spatie/icalendar-generator
DESCRIPTION:Évènements de Commune de Lexy
X-WR-CALDESC:Évènements de Commune de Lexy
REFRESH-INTERVAL;VALUE=DURATION:PT1440M
X-PUBLISHED-TTL:PT1440M
BEGIN:VTIMEZONE
TZID:Etc/GMT-1
BEGIN:STANDARD
DTSTART:20200322T200000Z
TZOFFSETFROM:+0100
TZOFFSETTO:+0100
END:STANDARD
END:VTIMEZONE
BEGIN:VTIMEZONE
TZID:UTC
BEGIN:STANDARD
DTSTART:20250727T051013Z
TZOFFSETFROM:+0000
TZOFFSETTO:+0000
END:STANDARD
END:VTIMEZONE
BEGIN:VEVENT
UID:178-155
DTSTAMP:20260423T051013Z
SUMMARY:Événement Sans Titre
LOCATION:Mairie 2b route de longwy  Lexy  54720
ORGANIZER;CN=Lexy:MAILTO:sitelexy@gmail.com
DTSTART;TZID=Etc/GMT-1:20201217T200000
DTEND;TZID=Etc/GMT-1:20201217T210000
X-ALT-DESC;FMTTYPE=TEXT/HTML:La prochaine réunion du Conseil Municipal se 
 déroulera à l'Hôtel de Ville le JEUDI 17 DECEMBRE 2020 à 20 Heures Ord
 re du Jour : Avenant au marché ~ Travaux d’aménagement carrefour des M
 aragolles Tarifs repas accueil périscolaire Frais d’occupation du Foyer
  Municipal Frais d’occupation du Foyer des Personnes Agées Frais d’oc
 cupation de la salle d’exposition…
CATEGORIES:Associations
URL;VALUE=URI:http://www.lexy.fr/mc-events/evenement-sans-titre/
METHOD:PUBLISH
END:VEVENT
END:VCALENDAR