﻿BEGIN:VCALENDAR
VERSION:2.0
PRODID:spatie/icalendar-generator
DESCRIPTION:Évènements de Commune de Lexy
X-WR-CALDESC:Évènements de Commune de Lexy
REFRESH-INTERVAL;VALUE=DURATION:PT1440M
X-PUBLISHED-TTL:PT1440M
BEGIN:VTIMEZONE
TZID:Etc/GMT-1
BEGIN:STANDARD
DTSTART:20170117T000000Z
TZOFFSETFROM:+0100
TZOFFSETTO:+0100
END:STANDARD
END:VTIMEZONE
BEGIN:VTIMEZONE
TZID:UTC
BEGIN:STANDARD
DTSTART:20250727T075816Z
TZOFFSETFROM:+0000
TZOFFSETTO:+0000
END:STANDARD
END:VTIMEZONE
BEGIN:VEVENT
UID:104-85
DTSTAMP:20260423T075816Z
SUMMARY:Festival Euro BD
LOCATION:Salle des sports 17 Rue Albert Lebrun  Lexy  54720
ORGANIZER;CN=Lexy:MAILTO:sitelexy@gmail.com
DTSTART;TZID=Etc/GMT-1;VALUE=DATE:20171014
DTEND;TZID=Etc/GMT-1;VALUE=DATE:20171016
X-ALT-DESC;FMTTYPE=TEXT/HTML:Affiche 2017: Jean-Pierre Dirick. Thème: Napo
 léon et l'Empire dans la B.D. Invités d'Honneur sur le thème: Jean Tort
 on\, François Rabasse\, Jean-Pierre Dirick\, Luc Deroubaix\, Gilles Mezzo
 mo\, Bruno Falba. 40 auteurs de BD sont attendus. Expositions: JOB\, trois
  expositions Napoléon et l'Empire avec la participation de 3 associations
  Napoléoniennes. (uniformes\, documents\, soldats de plombs\, tableaux...
 ). &amp;gt\;…
CATEGORIES:Associations
URL;VALUE=URI:http://www.lexy.fr/mc-events/festival-euro-bd/
METHOD:PUBLISH
END:VEVENT
END:VCALENDAR