﻿BEGIN:VCALENDAR
VERSION:2.0
PRODID:spatie/icalendar-generator
DESCRIPTION:Évènements de Commune de Lexy
X-WR-CALDESC:Évènements de Commune de Lexy
REFRESH-INTERVAL;VALUE=DURATION:PT1440M
X-PUBLISHED-TTL:PT1440M
BEGIN:VTIMEZONE
TZID:Etc/GMT-1
BEGIN:STANDARD
DTSTART:20141217T140000Z
TZOFFSETFROM:+0100
TZOFFSETTO:+0100
END:STANDARD
END:VTIMEZONE
BEGIN:VTIMEZONE
TZID:UTC
BEGIN:STANDARD
DTSTART:20250724T051552Z
TZOFFSETFROM:+0000
TZOFFSETTO:+0000
END:STANDARD
END:VTIMEZONE
BEGIN:VEVENT
UID:14-6
DTSTAMP:20260420T051552Z
SUMMARY:Fête Patronale
LOCATION:
ORGANIZER;CN=Lexy:MAILTO:sitelexy@gmail.com
DTSTART;TZID=Etc/GMT-1:20150913T140000
DTEND;TZID=Etc/GMT-1:20150913T150000
X-ALT-DESC;FMTTYPE=TEXT/HTML:14 Heures : Fête Foraine 14 Heures : Concours
  de Quilles devant le Presbytère 14 Heures 30 : Animation musicale sur la
  Place de l'Eglise avec la participation du groupe \"POP ROCK SIXTIES SEVE
 NTIES VOODOO DOCTORS\" 15 Heures : Championnat de Football au Stade
CATEGORIES:Manifestations
URL;VALUE=URI:http://www.lexy.fr/mc-events/fete-patronale-2/
METHOD:PUBLISH
END:VEVENT
END:VCALENDAR