﻿BEGIN:VCALENDAR
VERSION:2.0
PRODID:spatie/icalendar-generator
DESCRIPTION:Évènements de Commune de Lexy
X-WR-CALDESC:Évènements de Commune de Lexy
REFRESH-INTERVAL;VALUE=DURATION:PT1440M
X-PUBLISHED-TTL:PT1440M
BEGIN:VTIMEZONE
TZID:Etc/GMT-1
BEGIN:STANDARD
DTSTART:20141218T140000Z
TZOFFSETFROM:+0100
TZOFFSETTO:+0100
END:STANDARD
END:VTIMEZONE
BEGIN:VTIMEZONE
TZID:UTC
BEGIN:STANDARD
DTSTART:20250724T124343Z
TZOFFSETFROM:+0000
TZOFFSETTO:+0000
END:STANDARD
END:VTIMEZONE
BEGIN:VEVENT
UID:13-7
DTSTAMP:20260420T124343Z
SUMMARY:Fête Patronale
LOCATION:
ORGANIZER;CN=Lexy:MAILTO:sitelexy@gmail.com
DTSTART;TZID=Etc/GMT-1:20150914T140000
DTEND;TZID=Etc/GMT-1:20150914T150000
X-ALT-DESC;FMTTYPE=TEXT/HTML:14 Heures : Grand tournoi de pétanque au Boul
 odrome organisé par la Boule Lexéenne et le comité des fêtes 16 Heures
  30 : Fête Foraine 16 Heures 45 : Grand lâcher de ballons sur la Place d
 e l'Eglise pour les enfants qui fréquentent les écoles primaire et mater
 nelle
CATEGORIES:Manifestations
URL;VALUE=URI:http://www.lexy.fr/mc-events/fete-patronale-3/
METHOD:PUBLISH
END:VEVENT
END:VCALENDAR