﻿BEGIN:VCALENDAR
VERSION:2.0
PRODID:spatie/icalendar-generator
DESCRIPTION:Évènements de Commune de Lexy
X-WR-CALDESC:Évènements de Commune de Lexy
REFRESH-INTERVAL;VALUE=DURATION:PT1440M
X-PUBLISHED-TTL:PT1440M
BEGIN:VTIMEZONE
TZID:Etc/GMT-1
BEGIN:STANDARD
DTSTART:20181211T000000Z
TZOFFSETFROM:+0100
TZOFFSETTO:+0100
END:STANDARD
END:VTIMEZONE
BEGIN:VTIMEZONE
TZID:UTC
BEGIN:STANDARD
DTSTART:20250727T113344Z
TZOFFSETFROM:+0000
TZOFFSETTO:+0000
END:STANDARD
END:VTIMEZONE
BEGIN:VEVENT
UID:153-130
DTSTAMP:20260423T113344Z
SUMMARY:Fête patronale
LOCATION:
ORGANIZER;CN=Lexy:MAILTO:sitelexy@gmail.com
DTSTART;TZID=Etc/GMT-1;VALUE=DATE:20190907
DTEND;TZID=Etc/GMT-1;VALUE=DATE:20190910
X-ALT-DESC;FMTTYPE=TEXT/HTML:Samedi 7 Septembre  9 – 12 Heures  :   M
 atch de Hand-Ball filles et garçons à la Salle des Sports 14 Heures : 38
 ème Randonnée « LEXY EN FETE » (Course organisée par le Club Cyclot
 ouristes de Lexy) - Départ au Foyer Municipal suivant parcours modifié P
 our les enfants des Ecoles : Un parcours spécial leur sera réservé sur
 …
CATEGORIES:Manifestations
URL;VALUE=URI:http://www.lexy.fr/mc-events/fete-patronale-6/
METHOD:PUBLISH
END:VEVENT
END:VCALENDAR