﻿BEGIN:VCALENDAR
VERSION:2.0
PRODID:spatie/icalendar-generator
DESCRIPTION:Évènements de Commune de Lexy
X-WR-CALDESC:Évènements de Commune de Lexy
REFRESH-INTERVAL;VALUE=DURATION:PT1440M
X-PUBLISHED-TTL:PT1440M
BEGIN:VTIMEZONE
TZID:Etc/GMT-1
BEGIN:STANDARD
DTSTART:20171212T000000Z
TZOFFSETFROM:+0100
TZOFFSETTO:+0100
END:STANDARD
END:VTIMEZONE
BEGIN:VTIMEZONE
TZID:UTC
BEGIN:STANDARD
DTSTART:20250724T075140Z
TZOFFSETFROM:+0000
TZOFFSETTO:+0000
END:STANDARD
END:VTIMEZONE
BEGIN:VEVENT
UID:130-107
DTSTAMP:20260420T075140Z
SUMMARY:Fête Patronale
LOCATION:Mairie 2b route de longwy  Lexy  54720
ORGANIZER;CN=Lexy:MAILTO:sitelexy@gmail.com
DTSTART;TZID=Etc/GMT-1;VALUE=DATE:20180908
DTEND;TZID=Etc/GMT-1;VALUE=DATE:20180911
X-ALT-DESC;FMTTYPE=TEXT/HTML:Samedi 08 Septembre 2018 14 Heures : 37ème 
 Randonnée « LEXY EN FETE » (Course organisée par le Club Cyclotouriste
 s de Lexy) - Départ au Foyer Municipal suivant parcours modifié Pour les
  enfants des Ecoles : Un parcours spécial leur sera réservé sur le par
 king du Foyer Municipal 17 Heures 30 : Réception des personnalités et d
 es Forains au…
CATEGORIES:Associations
URL;VALUE=URI:http://www.lexy.fr/mc-events/fete-patronale-7/
METHOD:PUBLISH
END:VEVENT
END:VCALENDAR