﻿BEGIN:VCALENDAR
VERSION:2.0
PRODID:spatie/icalendar-generator
DESCRIPTION:Évènements de Commune de Lexy
X-WR-CALDESC:Évènements de Commune de Lexy
REFRESH-INTERVAL;VALUE=DURATION:PT1440M
X-PUBLISHED-TTL:PT1440M
BEGIN:VTIMEZONE
TZID:Etc/GMT-1
BEGIN:STANDARD
DTSTART:20150617T090000Z
TZOFFSETFROM:+0100
TZOFFSETTO:+0100
END:STANDARD
END:VTIMEZONE
BEGIN:VTIMEZONE
TZID:UTC
BEGIN:STANDARD
DTSTART:20250724T151145Z
TZOFFSETFROM:+0000
TZOFFSETTO:+0000
END:STANDARD
END:VTIMEZONE
BEGIN:VEVENT
UID:39-28
DTSTAMP:20260420T151145Z
SUMMARY:Gala de Judo
LOCATION:Salle des sports 17 Rue Albert Lebrun  Lexy  54720
ORGANIZER;CN=Lexy:MAILTO:sitelexy@gmail.com
DTSTART;TZID=Etc/GMT-1:20160313T090000
DTEND;TZID=Etc/GMT-1:20160313T100000
X-ALT-DESC;FMTTYPE=TEXT/HTML:Rencontre interclubs (+/- 20 clubs) avec +/- 4
 00 participants. Minimes F/G – Cadettes/Cadets 1999 – 2003 09 : 00 –
  09 : 30 Benjamines - Benjamins 2004 – 2005 09 : 45 – 10 : 15 Mini Pou
 ssines – Mini Poussins 2008 – 2009 10 : 45 – 11 : 15 Juniors-Sénior
 s-Vétérans (40 ans et…
CATEGORIES:Associations
URL;VALUE=URI:http://www.lexy.fr/mc-events/gala-de-judo/
METHOD:PUBLISH
END:VEVENT
END:VCALENDAR