﻿BEGIN:VCALENDAR
VERSION:2.0
PRODID:spatie/icalendar-generator
DESCRIPTION:Évènements de Commune de Lexy
X-WR-CALDESC:Évènements de Commune de Lexy
REFRESH-INTERVAL;VALUE=DURATION:PT1440M
X-PUBLISHED-TTL:PT1440M
BEGIN:VTIMEZONE
TZID:Etc/GMT-1
BEGIN:STANDARD
DTSTART:20201209T000000Z
TZOFFSETFROM:+0100
TZOFFSETTO:+0100
END:STANDARD
END:VTIMEZONE
BEGIN:VTIMEZONE
TZID:UTC
BEGIN:STANDARD
DTSTART:20250724T151048Z
TZOFFSETFROM:+0000
TZOFFSETTO:+0000
END:STANDARD
END:VTIMEZONE
BEGIN:VEVENT
UID:189-166
DTSTAMP:20260420T151048Z
SUMMARY:Journée du cheval dans le poney-club
LOCATION:
ORGANIZER;CN=Lexy:MAILTO:sitelexy@gmail.com
DTSTART;TZID=Etc/GMT-1;VALUE=DATE:20210905
DTEND;TZID=Etc/GMT-1;VALUE=DATE:20210906
X-ALT-DESC;FMTTYPE=TEXT/HTML:La Fédération Française d’Equitation assu
 re la promotion des activités équestres proposées par les 6000 poney-cl
 ubs et centres équestres de France. Sport nature et populaire\, l’équi
 tation est accessible à tous les publics. La rentrée de septembre est un
  moment décisif pour les clubs sportifs\, et encore plus particulièremen
 t en cette période de crise sanitaire. Afin de…
CATEGORIES:Associations
URL;VALUE=URI:http://www.lexy.fr/mc-events/journee-du-cheval-dans-le-poney-
 club/
METHOD:PUBLISH
END:VEVENT
END:VCALENDAR