﻿BEGIN:VCALENDAR
VERSION:2.0
PRODID:spatie/icalendar-generator
DESCRIPTION:Évènements de Commune de Lexy
X-WR-CALDESC:Évènements de Commune de Lexy
REFRESH-INTERVAL;VALUE=DURATION:PT1440M
X-PUBLISHED-TTL:PT1440M
BEGIN:VTIMEZONE
TZID:Etc/GMT-1
BEGIN:STANDARD
DTSTART:20150915T110000Z
TZOFFSETFROM:+0100
TZOFFSETTO:+0100
END:STANDARD
END:VTIMEZONE
BEGIN:VTIMEZONE
TZID:UTC
BEGIN:STANDARD
DTSTART:20250727T011207Z
TZOFFSETFROM:+0000
TZOFFSETTO:+0000
END:STANDARD
END:VTIMEZONE
BEGIN:VEVENT
UID:52-39
DTSTAMP:20260423T011207Z
SUMMARY:Journée nationale des pompiers
LOCATION:
ORGANIZER;CN=Lexy:MAILTO:sitelexy@gmail.com
DTSTART;TZID=Etc/GMT-1:20160611T110000
DTEND;TZID=Etc/GMT-1:20160611T180000
X-ALT-DESC;FMTTYPE=TEXT/HTML:Les sapeurs-pompiers de Meurthe et Moselle\, 
 à l’occasion de leur journée nationale\, s’associent avec l’AEIM l
 e 11 juin 2016 sur le Plan d’eau de Briey Dans l’après-midi aura lieu
  des démonstrations\, manœuvres\, expositions… Programme complet sur l
 'affiche jointe
CATEGORIES:Manifestations extérieures
URL;VALUE=URI:http://www.lexy.fr/mc-events/journee-nationale-des-pompiers/
METHOD:PUBLISH
END:VEVENT
END:VCALENDAR