﻿BEGIN:VCALENDAR
VERSION:2.0
PRODID:spatie/icalendar-generator
DESCRIPTION:Évènements de Commune de Lexy
X-WR-CALDESC:Évènements de Commune de Lexy
REFRESH-INTERVAL;VALUE=DURATION:PT1440M
X-PUBLISHED-TTL:PT1440M
BEGIN:VTIMEZONE
TZID:Etc/GMT-1
BEGIN:STANDARD
DTSTART:20160413T143000Z
TZOFFSETFROM:+0100
TZOFFSETTO:+0100
END:STANDARD
END:VTIMEZONE
BEGIN:VTIMEZONE
TZID:UTC
BEGIN:STANDARD
DTSTART:20250724T111734Z
TZOFFSETFROM:+0000
TZOFFSETTO:+0000
END:STANDARD
END:VTIMEZONE
BEGIN:VEVENT
UID:73-58
DTSTAMP:20260420T111734Z
SUMMARY:Loto du nouvel an
LOCATION:Foyer Municipal 6 rue du Maréchal Foch  Lexy  54720
ORGANIZER;CN=Lexy:MAILTO:sitelexy@gmail.com
DTSTART;TZID=Etc/GMT-1:20170108T143000
DTEND;TZID=Etc/GMT-1:20170108T153000
X-ALT-DESC;FMTTYPE=TEXT/HTML:Le comité des Fêtes de Lexy organise le dima
 nche 8 Janvier 2017\, à partir de 14H30\, au Foyer Municipal de Lexy\, un
  SUPER LOTO DU NOUVEL AN. Nombreux lots à gagner : bijoux\, filet garni\,
  bons d'achats de 50\, 70\, 90\, 120 et 150 Euros. Une tombola sera organi
 sée et les rois seront tirés. Prix…
CATEGORIES:Associations
URL;VALUE=URI:http://www.lexy.fr/mc-events/loto-du-nouvel-an/
METHOD:PUBLISH
END:VEVENT
END:VCALENDAR