﻿BEGIN:VCALENDAR
VERSION:2.0
PRODID:spatie/icalendar-generator
DESCRIPTION:Évènements de Commune de Lexy
X-WR-CALDESC:Évènements de Commune de Lexy
REFRESH-INTERVAL;VALUE=DURATION:PT1440M
X-PUBLISHED-TTL:PT1440M
BEGIN:VTIMEZONE
TZID:Etc/GMT-1
BEGIN:STANDARD
DTSTART:20220315T093000Z
TZOFFSETFROM:+0100
TZOFFSETTO:+0100
END:STANDARD
END:VTIMEZONE
BEGIN:VTIMEZONE
TZID:UTC
BEGIN:STANDARD
DTSTART:20250725T232618Z
TZOFFSETFROM:+0000
TZOFFSETTO:+0000
END:STANDARD
END:VTIMEZONE
BEGIN:VEVENT
UID:220-194
DTSTAMP:20260421T232618Z
SUMMARY:Repair'café
LOCATION:
ORGANIZER;CN=Lexy:MAILTO:sitelexy@gmail.com
DTSTART;TZID=Etc/GMT-1:20221210T093000
DTEND;TZID=Etc/GMT-1:20221210T123000
X-ALT-DESC;FMTTYPE=TEXT/HTML:Le Pôle environnement du Grand Longwy et la m
 airie de Longlaville organisent un Repair Café le samedi 10 décembre de 
 9h30 à 12h30 à l’Espace  (au 6 rue Jean Jaurès – 54810 – LONGLAV
 ILLE). L’entrée est libre ! L’objectif est de venir réparer vos peti
 ts appareils électroménagers en panne pour éviter de les jeter. Nous…
CATEGORIES:Associations
URL;VALUE=URI:http://www.lexy.fr/mc-events/repaircafe/
METHOD:PUBLISH
END:VEVENT
END:VCALENDAR