﻿BEGIN:VCALENDAR
VERSION:2.0
PRODID:spatie/icalendar-generator
DESCRIPTION:Évènements de Commune de Lexy
X-WR-CALDESC:Évènements de Commune de Lexy
REFRESH-INTERVAL;VALUE=DURATION:PT1440M
X-PUBLISHED-TTL:PT1440M
BEGIN:VTIMEZONE
TZID:Etc/GMT-1
BEGIN:STANDARD
DTSTART:20160628T200000Z
TZOFFSETFROM:+0100
TZOFFSETTO:+0100
END:STANDARD
END:VTIMEZONE
BEGIN:VTIMEZONE
TZID:UTC
BEGIN:STANDARD
DTSTART:20250724T105141Z
TZOFFSETFROM:+0000
TZOFFSETTO:+0000
END:STANDARD
END:VTIMEZONE
BEGIN:VEVENT
UID:75-60
DTSTAMP:20260420T105141Z
SUMMARY:Repas du Football Club
LOCATION:Foyer Municipal 6 rue du Maréchal Foch  Lexy  54720
ORGANIZER;CN=Lexy:MAILTO:sitelexy@gmail.com
DTSTART;TZID=Etc/GMT-1:20170325T200000
DTEND;TZID=Etc/GMT-1:20170325T210000
X-ALT-DESC;FMTTYPE=TEXT/HTML:Repas du football club de Lexy au Foyer Munici
 pal Sangria Offerte Salade Lorraine Roti de veau et son gratin Salade / Fr
 omage Assiette gourmande Café 25 euros / personne Animation par un DJ Ré
 servations au 06 80 72 69 82 ou 06 18 34 49 60
CATEGORIES:Associations
URL;VALUE=URI:http://www.lexy.fr/mc-events/repas-du-football-club/
METHOD:PUBLISH
END:VEVENT
END:VCALENDAR