﻿BEGIN:VCALENDAR
VERSION:2.0
PRODID:spatie/icalendar-generator
DESCRIPTION:Évènements de Commune de Lexy
X-WR-CALDESC:Évènements de Commune de Lexy
REFRESH-INTERVAL;VALUE=DURATION:PT1440M
X-PUBLISHED-TTL:PT1440M
BEGIN:VTIMEZONE
TZID:Etc/GMT-1
BEGIN:STANDARD
DTSTART:20181019T203000Z
TZOFFSETFROM:+0100
TZOFFSETTO:+0100
END:STANDARD
END:VTIMEZONE
BEGIN:VTIMEZONE
TZID:UTC
BEGIN:STANDARD
DTSTART:20250728T001417Z
TZOFFSETFROM:+0000
TZOFFSETTO:+0000
END:STANDARD
END:VTIMEZONE
BEGIN:VEVENT
UID:150-127
DTSTAMP:20260424T001417Z
SUMMARY:Spectacle Sourires d'Ukraine
LOCATION:Salle des sports 17 Rue Albert Lebrun  Lexy  54720
ORGANIZER;CN=Lexy:MAILTO:sitelexy@gmail.com
DTSTART;TZID=Etc/GMT-1:20190716T203000
DTEND;TZID=Etc/GMT-1:20190716T213000
X-ALT-DESC;FMTTYPE=TEXT/HTML:Entrée gratuite &amp;nbsp\; [gallery link=\"file\
 " size=\"medium\" ids=\"3203\,3202\,3201\,3200\,3199\"]
CATEGORIES:Associations
URL;VALUE=URI:http://www.lexy.fr/mc-events/spectacle-sourires-dukraine/
METHOD:PUBLISH
END:VEVENT
END:VCALENDAR