﻿BEGIN:VCALENDAR
VERSION:2.0
PRODID:spatie/icalendar-generator
DESCRIPTION:Évènements de Commune de Lexy
X-WR-CALDESC:Évènements de Commune de Lexy
REFRESH-INTERVAL;VALUE=DURATION:PT1440M
X-PUBLISHED-TTL:PT1440M
BEGIN:VTIMEZONE
TZID:Etc/GMT-1
BEGIN:STANDARD
DTSTART:20150728T235900Z
TZOFFSETFROM:+0100
TZOFFSETTO:+0100
END:STANDARD
END:VTIMEZONE
BEGIN:VTIMEZONE
TZID:UTC
BEGIN:STANDARD
DTSTART:20250727T011308Z
TZOFFSETFROM:+0000
TZOFFSETTO:+0000
END:STANDARD
END:VTIMEZONE
BEGIN:VEVENT
UID:46-33
DTSTAMP:20260423T011308Z
SUMMARY:Une rose\, un espoir
LOCATION:
ORGANIZER;CN=Lexy:MAILTO:sitelexy@gmail.com
DTSTART;TZID=Etc/GMT-1:20160423T235900
DTEND;TZID=Etc/GMT-1:20160424T235900
X-ALT-DESC;FMTTYPE=TEXT/HTML:La distribution des roses pour la lutte contre
  le Cancer se déroulera comme chaque année\, le dernier week end du mois
  d'Avril. Tous les bénévoles\, personnes disponibles le jeudi 21 avril 2
 016 à partir de 14h00 sont les bienvenue pour préparer les roses du week
 -end qui seront offertes en échange d'un don de minimum 2…
CATEGORIES:Associations
URL;VALUE=URI:http://www.lexy.fr/mc-events/une-rose-un-espoir/
METHOD:PUBLISH
END:VEVENT
END:VCALENDAR