﻿BEGIN:VCALENDAR
VERSION:2.0
PRODID:spatie/icalendar-generator
DESCRIPTION:Évènements de Commune de Lexy
X-WR-CALDESC:Évènements de Commune de Lexy
REFRESH-INTERVAL;VALUE=DURATION:PT1440M
X-PUBLISHED-TTL:PT1440M
BEGIN:VTIMEZONE
TZID:Etc/GMT-1
BEGIN:STANDARD
DTSTART:20161128T170000Z
TZOFFSETFROM:+0100
TZOFFSETTO:+0100
END:STANDARD
END:VTIMEZONE
BEGIN:VTIMEZONE
TZID:UTC
BEGIN:STANDARD
DTSTART:20250727T023926Z
TZOFFSETFROM:+0000
TZOFFSETTO:+0000
END:STANDARD
END:VTIMEZONE
BEGIN:VEVENT
UID:95-79
DTSTAMP:20260423T023926Z
SUMMARY:103ème anniversaire des Combats de Lexy
LOCATION:Mairie 2b route de longwy  Lexy  54720
ORGANIZER;CN=Lexy:MAILTO:sitelexy@gmail.com
DTSTART;TZID=Etc/GMT-1:20170825T170000
DTEND;TZID=Etc/GMT-1:20170825T180000
X-ALT-DESC;FMTTYPE=TEXT/HTML:17H00 : Rassemblement devant l'Hôtel de Ville
  du Conseil Municipal\, des Associations Patriotiques\, des Personnalités
  et de la Population 17H15 : Dépôt de gerbes au Monument aux Morts et à
  l'Ossuaire Militaires 18H00 : Vin d'Honneur au Foyer des Anciens
CATEGORIES:Commémorations
URL;VALUE=URI:https://www.lexy.fr/mc-events/103eme-anniversaire-des-combats
 -de-lexy/
METHOD:PUBLISH
END:VEVENT
END:VCALENDAR