﻿BEGIN:VCALENDAR
VERSION:2.0
PRODID:spatie/icalendar-generator
DESCRIPTION:Évènements de Commune de Lexy
X-WR-CALDESC:Évènements de Commune de Lexy
REFRESH-INTERVAL;VALUE=DURATION:PT1440M
X-PUBLISHED-TTL:PT1440M
BEGIN:VTIMEZONE
TZID:Etc/GMT-1
BEGIN:STANDARD
DTSTART:20150214T103000Z
TZOFFSETFROM:+0100
TZOFFSETTO:+0100
END:STANDARD
END:VTIMEZONE
BEGIN:VTIMEZONE
TZID:UTC
BEGIN:STANDARD
DTSTART:20250727T203234Z
TZOFFSETFROM:+0000
TZOFFSETTO:+0000
END:STANDARD
END:VTIMEZONE
BEGIN:VEVENT
UID:20-12
DTSTAMP:20260423T203234Z
SUMMARY:97ème Anniversaire de l'Armistice
LOCATION:Mairie 2b route de longwy  Lexy  54720
ORGANIZER;CN=Lexy:MAILTO:sitelexy@gmail.com
DTSTART;TZID=Etc/GMT-1:20151111T103000
DTEND;TZID=Etc/GMT-1:20151111T113000
X-ALT-DESC;FMTTYPE=TEXT/HTML:10h30 : Rassemblement devant l'Hôtel de Ville
  du Conseil Municipal\, des associations patriotiques et de la population 
 10h45 : Dépôt de gerbes au Monument aux Morts et à l'Ossuaire Militaire
  avec la participation de la chorale \"LEXY FANTAISY\" et les enfants des 
 écoles 11h15 : Vin d'Honneur et réception des Personnalités au Foyer Mu
 nicipal
CATEGORIES:Commémorations
URL;VALUE=URI:https://www.lexy.fr/mc-events/97eme-anniversaire-de-larmistic
 e/
METHOD:PUBLISH
END:VEVENT
END:VCALENDAR