﻿BEGIN:VCALENDAR
VERSION:2.0
PRODID:spatie/icalendar-generator
DESCRIPTION:Évènements de Commune de Lexy
X-WR-CALDESC:Évènements de Commune de Lexy
REFRESH-INTERVAL;VALUE=DURATION:PT1440M
X-PUBLISHED-TTL:PT1440M
BEGIN:VTIMEZONE
TZID:Etc/GMT-1
BEGIN:STANDARD
DTSTART:20150909T060000Z
TZOFFSETFROM:+0100
TZOFFSETTO:+0100
END:STANDARD
END:VTIMEZONE
BEGIN:VTIMEZONE
TZID:UTC
BEGIN:STANDARD
DTSTART:20250728T023535Z
TZOFFSETFROM:+0000
TZOFFSETTO:+0000
END:STANDARD
END:VTIMEZONE
BEGIN:VEVENT
UID:37-27
DTSTAMP:20260424T023535Z
SUMMARY:Brocante
LOCATION:Parc Municipal Fernand Collignon 10 rue du commandant Spicq  Lexy 
  54720
ORGANIZER;CN=Lexy:MAILTO:sitelexy@gmail.com
DTSTART;TZID=Etc/GMT-1:20160605T060000
DTEND;TZID=Etc/GMT-1:20160605T170000
X-ALT-DESC;FMTTYPE=TEXT/HTML:Le 5 juin 2016\, l’association \"Bouge avec 
 ton parc\" ressuscite la brocante de Lexy au Parc Fernand Collignon. De no
 mbreux exposants vous accueilleront toute la journée (6h – 17h) avec un
 e buvette et restauration sur place. Tarifs: Entrée gratuite pour les vis
 iteurs Exposant : 2€ le mètre (tables non fournies). Inscriptions pour 
 les exposants: Par…
CATEGORIES:Associations
URL;VALUE=URI:https://www.lexy.fr/mc-events/brocante/
METHOD:PUBLISH
END:VEVENT
END:VCALENDAR