﻿BEGIN:VCALENDAR
VERSION:2.0
PRODID:spatie/icalendar-generator
DESCRIPTION:Évènements de Commune de Lexy
X-WR-CALDESC:Évènements de Commune de Lexy
REFRESH-INTERVAL;VALUE=DURATION:PT1440M
X-PUBLISHED-TTL:PT1440M
BEGIN:VTIMEZONE
TZID:Etc/GMT-1
BEGIN:STANDARD
DTSTART:20231001T203000Z
TZOFFSETFROM:+0100
TZOFFSETTO:+0100
END:STANDARD
END:VTIMEZONE
BEGIN:VTIMEZONE
TZID:UTC
BEGIN:STANDARD
DTSTART:20250726T191124Z
TZOFFSETFROM:+0000
TZOFFSETTO:+0000
END:STANDARD
END:VTIMEZONE
BEGIN:VEVENT
UID:286-255
DTSTAMP:20260422T191124Z
SUMMARY:Conseil Municipal
LOCATION:
ORGANIZER;CN=Lexy:MAILTO:sitelexy@gmail.com
DTSTART;TZID=Etc/GMT-1:20240627T203000
DTEND;TZID=Etc/GMT-1:20240627T213000
X-ALT-DESC;FMTTYPE=TEXT/HTML:Les membres du Conseil Municipal sont convoqu
 és à l’Hôtel de Ville pour la réunion du Conseil Municipal le : JEUD
 I 27 JUIN 2024 à 20 Heures Ordre du Jour : - Approbation du procès-verb
 al de la séance du 11 Avril 2024 - Cession de terrain rue Joffre - Conven
 tion de partenariat « Forfait chômage » avec…
CATEGORIES:Associations
URL;VALUE=URI:https://www.lexy.fr/mc-events/conseil-municipal-69/
METHOD:PUBLISH
END:VEVENT
END:VCALENDAR